Workbook

Sheet כתב כמויות
A1: כתב כמויות עבור: | C1: מספר דרישה
A2: =IF(DataSheet!C4<>0,DataSheet!C4,"") -> הסדרת והעמקת תעלות ניקוז מי גשם באלרואי | C2: =IF(DataSheet!B2<>0,DataSheet!B2,"") -> PD26001521
A4: =IF(DataSheet!A5<>0,DataSheet!A5,"") -> מק"ט | B4: =IF(DataSheet!D5<>0,DataSheet!D5,"") -> תאור מוצר | C4: =IF(DataSheet!E5<>0,DataSheet!E5,"") -> תיאור פריט ארוך | D4: =IF(DataSheet!J5<>0,DataSheet!J5,"") -> מספר הבהרה | E4: =IF(DataSheet!B5<>0,DataSheet!B5,"") -> כמות | F4: =IF(DataSheet!F5<>0,DataSheet!F5,"") -> יח' מפעל | G4: מחיר יחידה | H4: סה"כ | I4: סה"כ כתב כמויות: | J4: =SUMPRODUCT(E5:E1011,G5:G1011) -> 0
A5: =IF(DataSheet!A6<>0,DataSheet!A6,"") -> WE040001 | B5: =IF(DataSheet!D6<>0,DataSheet!D6,"") -> חישוף שטח | C5: =IF(DataSheet!E6<>0,DataSheet!E6,"") -> חישוף שטח בעובי 20 ס''מ | D5: =IF(A5="","",IF(DataSheet!J6=0,"פריט ללא הבהרה",DataSheet!J6)) -> 6.1.99 | E5: =IF(DataSheet!B6<>0,DataSheet!B6,"") -> 177.89 | F5: =IF(DataSheet!F6<>0,DataSheet!F6,"") -> מ2 | H5: =IF(G5= 0,"",G5*E5)
A6: =IF(DataSheet!A7<>0,DataSheet!A7,"") -> WE040045 | B6: =IF(DataSheet!D7<>0,DataSheet!D7,"") -> פירוק והתקנת מעקה בטיחות לכבישים טיפוס "W" (יחיד), | C6: =IF(DataSheet!E7<>0,DataSheet!E7,"") -> פירוק והתקנת מעקה בטיחות לכבישים טיפוס "W" (יחיד), לרבות מילוי הבור ויסוד חדש | D6: =IF(A6="","",IF(DataSheet!J7=0,"פריט ללא הבהרה",DataSheet!J7)) -> 6.1.317 | E6: =IF(DataSheet!B7<>0,DataSheet!B7,"") -> 12 | F6: =IF(DataSheet!F7<>0,DataSheet!F7,"") -> מטר | H6: =IF(G6= 0,"",G6*E6)
A7: =IF(DataSheet!A8<>0,DataSheet!A8,"") -> WE010035 | B7: =IF(DataSheet!D8<>0,DataSheet!D8,"") -> חפירה/חציבת תעלות עבור ביוב,ניקוז ומעברים לעומק עד 1.75 מ' | C7: =IF(DataSheet!E8<>0,DataSheet!E8,"") -> חפירה/חציבה של תעלות עבור ביוב,ניקוז מעברי מים וצנרת מים לעומק של עד 1.75 מ' כולל הובלה מיון ופיזור החומר החפור וסיווגו | D7: =IF(A7="","",IF(DataSheet!J8=0,"פריט ללא הבהרה",DataSheet!J8)) -> 6.1.319 | E7: =IF(DataSheet!B8<>0,DataSheet!B8,"") -> 332.08 | F7: =IF(DataSheet!F8<>0,DataSheet!F8,"") -> מ3 | H7: =IF(G7= 0,"",G7*E7)
A8: =IF(DataSheet!A9<>0,DataSheet!A9,"") -> WE040025 | B8: =IF(DataSheet!D9<>0,DataSheet!D9,"") -> ייצוב מדרונות באמצעות כוורת גיאוטכנית | C8: =IF(DataSheet!E9<>0,DataSheet!E9,"") -> ייצוב מדרונות בכוורת גיאוטכנית גובה 10 ס''מ לרבות חיבור בין רצועות עיגון ומילוי בבטון ב-20 בגוון בהתאם להחלטת המפקח. | D8: =IF(A8="","",IF(DataSheet!J9=0,"פריט ללא הבהרה",DataSheet!J9)) -> 6.1.123 | E8: =IF(DataSheet!B9<>0,DataSheet!B9,"") -> 1067.31 | F8: =IF(DataSheet!F9<>0,DataSheet!F9,"") -> מ2 | H8: =IF(G8= 0,"",G8*E8)
A9: =IF(DataSheet!A10<>0,DataSheet!A10,"") -> WE040029 | B9: =IF(DataSheet!D10<>0,DataSheet!D10,"") -> פריסת יריעות בד גיאוטכני במשקל 120 גרם/'מ"ר | C9: =IF(DataSheet!E10<>0,DataSheet!E10,"") -> פריסת יריעות בד גיאוטכני במשקל 120 גרם/'מ"ר בשטח שיוגדר כולל אמצעי עיגון לקרקע | D9: =IF(A9="","",IF(DataSheet!J10=0,"פריט ללא הבהרה",DataSheet!J10)) -> 6.1.271 | E9: =IF(DataSheet!B10<>0,DataSheet!B10,"") -> 1067.31 | F9: =IF(DataSheet!F10<>0,DataSheet!F10,"") -> מ2 | H9: =IF(G9= 0,"",G9*E9)
A10: =IF(DataSheet!A11<>0,DataSheet!A11,"") -> WE040001 | B10: =IF(DataSheet!D11<>0,DataSheet!D11,"") -> חישוף שטח | C10: =IF(DataSheet!E11<>0,DataSheet!E11,"") -> חישוף שטח בעובי 20 ס''מ | D10: =IF(A10="","",IF(DataSheet!J11=0,"פריט ללא הבהרה",DataSheet!J11)) -> 6.1.99 | E10: =IF(DataSheet!B11<>0,DataSheet!B11,"") -> 43.38 | F10: =IF(DataSheet!F11<>0,DataSheet!F11,"") -> מ2 | H10: =IF(G10= 0,"",G10*E10)
A11: =IF(DataSheet!A12<>0,DataSheet!A12,"") -> WE040045 | B11: =IF(DataSheet!D12<>0,DataSheet!D12,"") -> פירוק והתקנת מעקה בטיחות לכבישים טיפוס "W" (יחיד), | C11: =IF(DataSheet!E12<>0,DataSheet!E12,"") -> פירוק והתקנת מעקה בטיחות לכבישים טיפוס "W" (יחיד), לרבות מילוי הבור ויסוד חדש | D11: =IF(A11="","",IF(DataSheet!J12=0,"פריט ללא הבהרה",DataSheet!J12)) -> 6.1.317 | E11: =IF(DataSheet!B12<>0,DataSheet!B12,"") -> 12 | F11: =IF(DataSheet!F12<>0,DataSheet!F12,"") -> מטר | H11: =IF(G11= 0,"",G11*E11)
A12: =IF(DataSheet!A13<>0,DataSheet!A13,"") -> WE010035 | B12: =IF(DataSheet!D13<>0,DataSheet!D13,"") -> חפירה/חציבת תעלות עבור ביוב,ניקוז ומעברים לעומק עד 1.75 מ' | C12: =IF(DataSheet!E13<>0,DataSheet!E13,"") -> חפירה/חציבה של תעלות עבור ביוב,ניקוז מעברי מים וצנרת מים לעומק של עד 1.75 מ' כולל הובלה מיון ופיזור החומר החפור וסיווגו | D12: =IF(A12="","",IF(DataSheet!J13=0,"פריט ללא הבהרה",DataSheet!J13)) -> 6.1.319 | E12: =IF(DataSheet!B13<>0,DataSheet!B13,"") -> 47.49 | F12: =IF(DataSheet!F13<>0,DataSheet!F13,"") -> מ3 | H12: =IF(G12= 0,"",G12*E12)
A13: =IF(DataSheet!A14<>0,DataSheet!A14,"") -> WE040025 | B13: =IF(DataSheet!D14<>0,DataSheet!D14,"") -> ייצוב מדרונות באמצעות כוורת גיאוטכנית | C13: =IF(DataSheet!E14<>0,DataSheet!E14,"") -> ייצוב מדרונות בכוורת גיאוטכנית גובה 10 ס''מ לרבות חיבור בין רצועות עיגון ומילוי בבטון ב-20 בגוון בהתאם להחלטת המפקח. | D13: =IF(A13="","",IF(DataSheet!J14=0,"פריט ללא הבהרה",DataSheet!J14)) -> 6.1.123 | E13: =IF(DataSheet!B14<>0,DataSheet!B14,"") -> 173.52 | F13: =IF(DataSheet!F14<>0,DataSheet!F14,"") -> מ2 | H13: =IF(G13= 0,"",G13*E13)
A14: =IF(DataSheet!A15<>0,DataSheet!A15,"") -> WE040029 | B14: =IF(DataSheet!D15<>0,DataSheet!D15,"") -> פריסת יריעות בד גיאוטכני במשקל 120 גרם/'מ"ר | C14: =IF(DataSheet!E15<>0,DataSheet!E15,"") -> פריסת יריעות בד גיאוטכני במשקל 120 גרם/'מ"ר בשטח שיוגדר כולל אמצעי עיגון לקרקע | D14: =IF(A14="","",IF(DataSheet!J15=0,"פריט ללא הבהרה",DataSheet!J15)) -> 6.1.271 | E14: =IF(DataSheet!B15<>0,DataSheet!B15,"") -> 173.52 | F14: =IF(DataSheet!F15<>0,DataSheet!F15,"") -> מ2 | H14: =IF(G14= 0,"",G14*E14)
A15: =IF(DataSheet!A16<>0,DataSheet!A16,"") -> WE040005 | B15: =IF(DataSheet!D16<>0,DataSheet!D16,"") -> ניסור אספלט | C15: =IF(DataSheet!E16<>0,DataSheet!E16,"") -> ניסור אספלט קיים ע''י מסור כביש | D15: =IF(A15="","",IF(DataSheet!J16=0,"פריט ללא הבהרה",DataSheet!J16)) -> 6.1.103 | E15: =IF(DataSheet!B16<>0,DataSheet!B16,"") -> 9 | F15: =IF(DataSheet!F16<>0,DataSheet!F16,"") -> מטר | H15: =IF(G15= 0,"",G15*E15)
A16: =IF(DataSheet!A17<>0,DataSheet!A17,"") -> WE010003 | B16: =IF(DataSheet!D17<>0,DataSheet!D17,"") -> חפירה כללית בשטח בין 1 ל3 מטר | C16: =IF(DataSheet!E17<>0,DataSheet!E17,"") -> חפירה / חציבה כללית בשטח לעומק כולל בין 1 מ' ועד 3 מטרים | D16: =IF(A16="","",IF(DataSheet!J17=0,"פריט ללא הבהרה",DataSheet!J17)) -> 6.1.03 | E16: =IF(DataSheet!B17<>0,DataSheet!B17,"") -> 27 | F16: =IF(DataSheet!F17<>0,DataSheet!F17,"") -> מ3 | H16: =IF(G16= 0,"",G16*E16)
... A1034: =IF(DataSheet!A1035<>0,DataSheet!A1035,"") | B1034: =IF(DataSheet!D1035<>0,DataSheet!D1035,"") | C1034: =IF(DataSheet!E1035<>0,DataSheet!E1035,"") | D1034: =IF(A1034="","",IF(DataSheet!J1035=0,"פריט ללא הבהרה",DataSheet!J1035)) | E1034: =IF(DataSheet!B1035<>0,DataSheet!B1035,"") | F1034: =IF(DataSheet!F1035<>0,DataSheet!F1035,"") | H1034: =IF(G1034= 0,"",G1034*E1034)

Sheet DataSheet
A1: תאריך | B1: דרישה מרוכזת | C1: מספר מחלקה | D1: שם מחלקה | E1: מס' ספק | F1: שם ספק | G1: פרויקט | H1: תאור פרויקט | I1: תאור סטטוס | J1: לטיפול | K1: סגורה? | L1: אוטומטית | M1: נספחים? | N1: קוד מתקן | O1: תאור הסניף | P1: קריאת שרות | Q1: מחסן | R1: איתור | S1: פרטים | T1: עבור משתמש | U1: סוג דרישת רכש | V1: תאור סוג דרישת רכש | W1: קוד סיבת דרישה | X1: תאור סיבת דרישה | Y1: קוד רשימת מאשרים | Z1: תאור רשימה | AA1: החותם הבא | AB1: מאושרת | AC1: סה"כ במטבע ראשי | AD1: סה"כ מחיר מוערך | AE1: מע"מ | AF1: מחיר כולל מע"מ | AG1: מטבע | AH1: קוד מס | AI1: לא נכללת בתזרים? | AJ1: סוג הזמנת רכש | AK1: תאור סוג הזמנת רכש | AL1: חתימה | AM1: ת. חתימה | AN1: יוזם הדרישה | AO1: קוד פטור הליך תחרותי | AP1: תאור פטור הליך תחרות | AQ1: קוד סוג הליך | AR1: תאור סוג הליך | AS1: קוד מצב טיפול | AT1: תאור מצב טיפול | AU1: מס. עוסק מורשה | AV1: טלפון ספק | AW1: שם איש קשר | AX1: טלפון איש קשר | AY1: כתובת | AZ1: כתובת שורה 2 | BA1: כתובת שורה 3 | BB1: עיר | BC1: מספר חשבונית | BD1: מנהל פרויקט | BE1: אגף | BF1: הזמנה קטנה | BG1: תאור אגף | BH1: תנאי יבוא | BI1: מנהל האגף | BJ1: תאור תנאי יבוא | BK1: שם מנהל האגף | BL1: מנהל המחלקה | BM1: שם מנהל המחלקה | BN1: סווג נוסף לפרויקט | BO1: תאור סווג נוסף פרויק | BP1: סיור קבלנים | BQ1: מועד סיור אחרון | BR1: משתמש מנהל מחלקה | BS1: משתמש מנהל אגף | BT1: תאריך תחילת האופציה | BU1: תאריך סיום האופציה | BV1: סכום האופציה | BW1: מטבע אופציה | BX1: מספר אופציה ( חוזה) | BY1: תיאור חוזה אופציה | BZ1: דרישת רכש מקורית | CA1: קוד סוג חוזה | CB1: תיאור סוג חוזה | CC1: חוזה בסיס | CD1: מספר חוזה | CE1: תוספת לחוזה | CF1: אופציה | CG1: כמות האופציות | CH1: שם חוזה | CI1: חשבונית | CJ1: חסר ספק | CK1: קוד תנאי תשלום | CL1: תנאי תשלום | CM1: הליך תחרותי | CN1: סכום שווי אופציות | CO1: ס"כ מחיר מוערך+מעמ | CP1: סה"כ שווי דרישה+אופ | CQ1: חוזה התקשרות | CR1: זמין לאיחוד | CS1: דרישה בתכנית עבודה? | CT1: תנאי תשלום | CU1: נדרש אישור אגף נכסים | CV1: שם מלא | CW1: נדרש אישור אגף תפעול | CX1: שם מלא (מנהל פרויקט) | CY1: נדרש אישור אגף מסחר | CZ1: תאור מחסן | DA1: נדרש אישור מע. מידע | DB1: נדרש אישור גורם אחר | DC1: נדרש דמי עיכוב?
A2: 06/09/2026 | B2: PD26001521 | C2: 38 | D2: הנדסה-מטה | G2: 250036 | H2: העמקת תעלת ניקוז מי גשם אלרואי | I2: אושר וועדה | J2: tal_k | M2: Y | N2: 110 | O2: אלרואי | S2: W2600135 | T2: saleem_g | U2: 400 | V2: חוזה עבודות | Y2: 00 | Z2: מאשרי דרישות מרוכזות - כללי | AB2: X | AC2: 415,340.54 | AD2: 415340.54 | AE2: 74,761.30 | AF2: 490,101.84 | AG2: ILS | AH2: 002 | AL2: tal_k | AM2: 46279.668 | AN2: michal | AQ2: 2 | AR2: מכרז פומבי | AS2: 3 | AT2: אושר בוועדת מכרזים | BD2: saleem_g | BE2: 12 | BG2: הנדסה | BI2: 3,008 | BK2: אילן מינץ | BL2: 0 | BN2: 1 | BO2: הנדסה | BQ2: 06/10/26 | BS2: ilan_m | BV2: 0.00 | CA2: 3 | CB2: עבודות | CD2: W2600135 | CG2: 0 | CH2: הסדרת והעמקת תעלות ניקוז מי גשם באלרואי | CJ2: Y | CM2: Y | CN2: 0 | CO2: 490101.84 | CP2: 490101.84 | CQ2: Y | CV2: סלים גנאיים | CX2: סלים גנאיים | DC2: Y
A3: מק"ט | B3: תיאור פריט ארוך | C3: תאור מוצר | D3: כמות להזמין | E3: מלאי זמין | F3: מחיר מוערך ליחידה | G3: יח' | H3: מחסן | I3: תאור מחסן | J3: סה"כ מחיר מוערך | K3: מטבע שורה | L3: ת. נדרש | M3: קוד מתקן | N3: פרוייקט תקציבי | O3: קוד אגף | P3: קוד סוג הוצאה | Q3: קוד הוצאה | R3: סעיף תקציבי | S3: ספק לדרישה | T3: שם ספק לדרישה | U3: הזמנת רכש | V3: מתקן | W3: תאור פרוייקט תקציבי | X3: אגף | Y3: תאור סוג הוצאה | Z3: סוג הוצאה | AA3: מס. פרויקט | AB3: תאור פרויקט | AC3: הצעת מחיר | AD3: שורת הצעה | AE3: מק"ט ספק/יצרן | AF3: מרכז רווח/עלות | AG3: שם יצרן | AH3: מק"ט יצרן | AI3: מס. אריזות | AJ3: קוד סוג אריזה | AK3: ת. כניסה מתוכנן | AL3: ת. אספקה מתוכנן | AM3: ת. הזמנה מתוכנן | AN3: קניין | AO3: ספק מועדף | AP3: הזמנת לקוח | AQ3: שורה | AR3: מספר דרישה | AS3: כמות מפעל | AT3: סגורה? | AU3: יח' מפעל | AV3: מטבע תעודה | AW3: להעתיק מחיר להזמנה? | AX3: מקור מחיר | AY3: שער חליפין | AZ3: אוטומטית | BA3: נפתחה בקשה? | BB3: לפק"ע | BC3: לפעולה | BD3: ליידע בקבלה? | BE3: לא לפתוח הזמנה | BF3: פתיחת בקשה? | BG3: מס' דרישה מקורית | BH3: כמות דרישה מקורית | BI3: פק"ע לחיוב | BJ3: מספר פעילות (WBS) | BK3: פעילות. | BL3: תיאור פעילות | BM3: KLINE | BN3: מספר דרישה מקורית | BO3: שורה דרישה מקורית | BP3: מספר דרישה מאוחדת | BQ3: שורת דרישה מאוחדת | BR3: מנוהל כתב כמויות | BS3: משפיעה על התכנון | BT3: מנוהל מלאי? | BU3: כמות מקורית | BV3: חתימה - סטטוס | BW3: ת. חתימה - סטטוס | BX3: תחום עיסוק | BY3: תאור תחום עיסוק | BZ3: פרמטר 3 למוצר | CA3: שורת דרישה שהועתקה | CB3: משפחת מוצר
A4: WTO010001 | C4: הסדרת והעמקת תעלות ניקוז מי גשם באלרואי | D4: 415,340.54 | E4: 0 | F4: 1.00 | G4: יח | J4: 415,340.54 | K4: ILS | L4: 46271 | M4: 110 | N4: 250036 | O4: 12 | P4: 210 | Q4: 763 | R4: 110.250036.12.210-763 | V4: אלרואי | W4: העמקת תעלת ניקוז מי גשם אלרואי | X4: הנדסה | Y4: רכוש קבוע | Z4: השקעות בתחזוקת המתקן | AA4: 250036 | AB4: העמקת תעלת ניקוז מי גשם אלרואי | AD4: 0 | AF4: 1002 | AI4: 0 | AK4: 46271 | AL4: 46271 | AM4: 46271 | AQ4: 0 | AR4: 38335 | AS4: 415340.54 | AU4: יח | AV4: ILS | AW4: Y | AX4: הזמנה אחרונה | AY4: 1 | BG4: 0 | BH4: 0 | BK4: 0 | BM4: 1 | BO4: 0 | BQ4: 0 | BR4: Y | BU4: 0 | BX4: WTO010 | BY4: כתב כמויות עבודות הנדסה | BZ4: כתב כמויות עבודות | CA4: 0 | CB4: WTO01
A5: מק"ט | B5: כמות | C5: מחיר ליחידה | D5: תאור מוצר | E5: תיאור פריט ארוך | F5: יח' מפעל | G5: סה"כ מחיר | H5: מטבע | I5: יתרה לאספקה | J5: מספר הבהרה
A6: WE040001 | B6: 177.89 | C6: 10 | D6: חישוף שטח | E6: חישוף שטח בעובי 20 ס''מ | F6: מ2 | G6: 1778.9 | H6: ILS | I6: 177.89 | J6: 6.1.99
A7: WE040045 | B7: 12 | C7: 154 | D7: פירוק והתקנת מעקה בטיחות לכבישים טיפוס "W" (יחיד), | E7: פירוק והתקנת מעקה בטיחות לכבישים טיפוס "W" (יחיד), לרבות מילוי הבור ויסוד חדש | F7: מטר | G7: 1848 | H7: ILS | I7: 12 | J7: 6.1.317
A8: WE010035 | B8: 332.08 | C8: 52 | D8: חפירה/חציבת תעלות עבור ביוב,ניקוז ומעברים לעומק עד 1.75 מ' | E8: חפירה/חציבה של תעלות עבור ביוב,ניקוז מעברי מים וצנרת מים לעומק של עד 1.75 מ' כולל הובלה מיון ופיזור החומר החפור וסיווגו | F8: מ3 | G8: 17268.16 | H8: ILS | I8: 332.08 | J8: 6.1.319
A9: WE040025 | B9: 1067.31 | C9: 88 | D9: ייצוב מדרונות באמצעות כוורת גיאוטכנית | E9: ייצוב מדרונות בכוורת גיאוטכנית גובה 10 ס''מ לרבות חיבור בין רצועות עיגון ומילוי בבטון ב-20 בגוון בהתאם להחלטת המפקח. | F9: מ2 | G9: 93923.28 | H9: ILS | I9: 1067.31 | J9: 6.1.123
A10: WE040029 | B10: 1067.31 | C10: 17 | D10: פריסת יריעות בד גיאוטכני במשקל 120 גרם/'מ"ר | E10: פריסת יריעות בד גיאוטכני במשקל 120 גרם/'מ"ר בשטח שיוגדר כולל אמצעי עיגון לקרקע | F10: מ2 | G10: 18144.27 | H10: ILS | I10: 1067.31 | J10: 6.1.271
A11: WE040001 | B11: 43.38 | C11: 10 | D11: חישוף שטח | E11: חישוף שטח בעובי 20 ס''מ | F11: מ2 | G11: 433.8 | H11: ILS | I11: 43.38 | J11: 6.1.99
A12: WE040045 | B12: 12 | C12: 154 | D12: פירוק והתקנת מעקה בטיחות לכבישים טיפוס "W" (יחיד), | E12: פירוק והתקנת מעקה בטיחות לכבישים טיפוס "W" (יחיד), לרבות מילוי הבור ויסוד חדש | F12: מטר | G12: 1848 | H12: ILS | I12: 12 | J12: 6.1.317
A13: WE010035 | B13: 47.49 | C13: 52 | D13: חפירה/חציבת תעלות עבור ביוב,ניקוז ומעברים לעומק עד 1.75 מ' | E13: חפירה/חציבה של תעלות עבור ביוב,ניקוז מעברי מים וצנרת מים לעומק של עד 1.75 מ' כולל הובלה מיון ופיזור החומר החפור וסיווגו | F13: מ3 | G13: 2469.48 | H13: ILS | I13: 47.49 | J13: 6.1.319
A14: WE040025 | B14: 173.52 | C14: 88 | D14: ייצוב מדרונות באמצעות כוורת גיאוטכנית | E14: ייצוב מדרונות בכוורת גיאוטכנית גובה 10 ס''מ לרבות חיבור בין רצועות עיגון ומילוי בבטון ב-20 בגוון בהתאם להחלטת המפקח. | F14: מ2 | G14: 15269.76 | H14: ILS | I14: 173.52 | J14: 6.1.123
A15: WE040029 | B15: 173.52 | C15: 17 | D15: פריסת יריעות בד גיאוטכני במשקל 120 גרם/'מ"ר | E15: פריסת יריעות בד גיאוטכני במשקל 120 גרם/'מ"ר בשטח שיוגדר כולל אמצעי עיגון לקרקע | F15: מ2 | G15: 2949.84 | H15: ILS | I15: 173.52 | J15: 6.1.271
A16: WE040005 | B16: 9 | C16: 19 | D16: ניסור אספלט | E16: ניסור אספלט קיים ע''י מסור כביש | F16: מטר | G16: 171 | H16: ILS | I16: 9 | J16: 6.1.103
A17: WE010003 | B17: 27 | C17: 125 | D17: חפירה כללית בשטח בין 1 ל3 מטר | E17: חפירה / חציבה כללית בשטח לעומק כולל בין 1 מ' ועד 3 מטרים | F17: מ3 | G17: 3375 | H17: ILS | I17: 27 | J17: 6.1.03
... A32: WE020073 | B32: 3 | C32: 550 | D32: ניסור או חיתוך בטון עד עובי 30 ס''מ | E32: ניסור או חיתוך קיר / תקרה / רצפת בטון מזויין עד עובי 30 ס''מ | F32: מטר | G32: 1650 | H32: ILS | I32: 3 | J32: 6.1.267
A33: WE060182 | B33: 5 | C33: 184 | D33: פירוק קו צינור ניקוז בקוטר "4 | E33: פירוק קו צינור ניקוז בקוטר "4 ויותר בתוך שוחות מגופים וצנרת עילית, חיתוכים "קרים" ללא שימוש באש של צנרת דרכה זרם דלק . | F33: מטר | G33: 920 | H33: ILS | I33: 5
A34: WE250026 | B34: 24 | C34: 205 | D34: ניקוי מעבירי מים (מובל סגור) קיימים | E34: ניקוי מעברי מים (מובל סגור) קיימים באמצעות שטיפה וגריפה של לכלוך ופסולת | F34: מטר | G34: 4920 | H34: ILS | I34: 24 | J34: 6.1.313
A35: WE030037 | B35: 20 | C35: 125 | D35: איטום קירות,משטחי בטון, קורות ויסודות במריחות ביטומן | E35: איטום קירות, משטחי בטון, קורות ויסודות במריחות ביטומן מנושב 85/40 בשכבה אחת 1.5 ק"ג/מ"ר, לקבלת ציפוי בעובי של 1 מ"מ | F35: מ2 | G35: 2500 | H35: ILS | I35: 20 | J35: 6.1.204
A36: WE040001 | B36: 121.77 | C36: 10 | D36: חישוף שטח | E36: חישוף שטח בעובי 20 ס''מ | F36: מ2 | G36: 1217.7 | H36: ILS | I36: 121.77 | J36: 6.1.99
A37: WE010035 | B37: 286.05 | C37: 52 | D37: חפירה/חציבת תעלות עבור ביוב,ניקוז ומעברים לעומק עד 1.75 מ' | E37: חפירה/חציבה של תעלות עבור ביוב,ניקוז מעברי מים וצנרת מים לעומק של עד 1.75 מ' כולל הובלה מיון ופיזור החומר החפור וסיווגו | F37: מ3 | G37: 14874.6 | H37: ILS | I37: 286.05 | J37: 6.1.319
A38: WE040045 | B38: 12 | C38: 154 | D38: פירוק והתקנת מעקה בטיחות לכבישים טיפוס "W" (יחיד), | E38: פירוק והתקנת מעקה בטיחות לכבישים טיפוס "W" (יחיד), לרבות מילוי הבור ויסוד חדש | F38: מטר | G38: 1848 | H38: ILS | I38: 12 | J38: 6.1.317
A39: WE040025 | B39: 771.21 | C39: 88 | D39: ייצוב מדרונות באמצעות כוורת גיאוטכנית | E39: ייצוב מדרונות בכוורת גיאוטכנית גובה 10 ס''מ לרבות חיבור בין רצועות עיגון ומילוי בבטון ב-20 בגוון בהתאם להחלטת המפקח. | F39: מ2 | G39: 67866.48 | H39: ILS | I39: 771.21 | J39: 6.1.123
A40: WE040029 | B40: 771.21 | C40: 17 | D40: פריסת יריעות בד גיאוטכני במשקל 120 גרם/'מ"ר | E40: פריסת יריעות בד גיאוטכני במשקל 120 גרם/'מ"ר בשטח שיוגדר כולל אמצעי עיגון לקרקע | F40: מ2 | G40: 13110.57 | H40: ILS | I40: 771.21 | J40: 6.1.271
A41: WE250036 | B41: 700 | C41: 55 | D41: פירוק קונסטרוקציה | E41: פירוק קונסטרוקציה, גרוטאות ומבנה פלדה והובלתם למקום שיורה המהנדס עד 2 ק"מ. | F41: ק'ג | G41: 38500 | H41: ILS | I41: 700 | J41: 6.1.335
A42: WE010005 | B42: 10 | C42: 55 | D42: חפירה למבנים תת קרקעים עד 2 מטר | E42: חפירה / חציבה למבנים תת קרקעים / שוחות מגופים / מכלי ניקוזים וכד' לעומק שאינו עולה על 2 מטרים | F42: מ3 | G42: 550 | H42: ILS | I42: 10 | J42: 6.1.05
A43: WE020001 | B43: 11.4 | C43: 71 | D43: מצע בטון רזה. | E43: בטון רזה עובי 5 ס''מ מתחת ליסודות בודדים, עוברים קורות יסוד או מרצפים. | F43: מ2 | G43: 809.4 | H43: ILS | I43: 11.4 | J43: 6.1.23
A44: WE020017 | B44: 5.7 | C44: 2100 | D44: קירות בטון בעובי של עד 40 ס''מ | E44: ירות בטון ב-30, דרגת חשיפה 6, בעובי של 20 ס''מ ועד 40 ס''מ ללא תלות בגובה הקיר או צורתו כולל פינות קטומות, שקעים ופתחים. | F44: מ3 | G44: 11970 | H44: ILS | I44: 5.7 | J44: 6.1.39
A45: WE020095 | B45: 5 | C45: 1630 | D45: יסודות עוברים מבטון ב-30 בעובי 50 ס"מ וברוחב עד 150ס"מ | E45: יסודות עוברים מבטון ב-30 בעובי 50 ס"מ וברוחב עד 150ס"מ לקירות למיכלי הדלק בצורה מעגלית כללית(או יצוקים בסיגמנטים ישרים). | F45: מ3 | G45: 8150 | H45: ILS | I45: 5 | J45: 6.1.347
... A54: WE090008 | B54: 4 | C54: 2750 | D54: משאית רכינה | E54: משאית רכינה שני צירים עם ארגז בקיבולת 15-18 טון כולל נהג. | F54: יום | G54: 11000 | H54: ILS | I54: 4 | J54: 6.5.08
